BEGIN:VCALENDAR
VERSION:2.0
PRODID:-//SRDBA - ECPv6.15.20//NONSGML v1.0//EN
CALSCALE:GREGORIAN
METHOD:PUBLISH
X-ORIGINAL-URL:https://www.srdba.org
X-WR-CALDESC:Events for SRDBA
REFRESH-INTERVAL;VALUE=DURATION:PT1H
X-Robots-Tag:noindex
X-PUBLISHED-TTL:PT1H
BEGIN:VTIMEZONE
TZID:UTC
BEGIN:STANDARD
TZOFFSETFROM:+0000
TZOFFSETTO:+0000
TZNAME:UTC
DTSTART:20200101T000000
END:STANDARD
END:VTIMEZONE
BEGIN:VEVENT
DTSTART;VALUE=DATE:20211001
DTEND;VALUE=DATE:20211004
DTSTAMP:20260419T100601
CREATED:20210122T015358Z
LAST-MODIFIED:20210122T015547Z
UID:320-1633046400-1633305599@www.srdba.org
SUMMARY:2021 US Club Crew National Championships
DESCRIPTION:NEW DATES:  October 1 -3\, 2021\n  Nathan Benderson Park\, Sarasota\, FL \nThis event had been postponed from 9-11 July 2021\, due to uncertainty from the Covid-19 pandemic.  
URL:https://www.srdba.org/event/2021-us-club-crew-national-championships/
END:VEVENT
END:VCALENDAR