BEGIN:VCALENDAR
VERSION:2.0
PRODID:-//SRDBA - ECPv6.15.20//NONSGML v1.0//EN
CALSCALE:GREGORIAN
METHOD:PUBLISH
X-WR-CALNAME:SRDBA
X-ORIGINAL-URL:https://www.srdba.org
X-WR-CALDESC:Events for SRDBA
REFRESH-INTERVAL;VALUE=DURATION:PT1H
X-Robots-Tag:noindex
X-PUBLISHED-TTL:PT1H
BEGIN:VTIMEZONE
TZID:America/New_York
BEGIN:DAYLIGHT
TZOFFSETFROM:-0500
TZOFFSETTO:-0400
TZNAME:EDT
DTSTART:20240310T070000
END:DAYLIGHT
BEGIN:STANDARD
TZOFFSETFROM:-0400
TZOFFSETTO:-0500
TZNAME:EST
DTSTART:20241103T060000
END:STANDARD
BEGIN:DAYLIGHT
TZOFFSETFROM:-0500
TZOFFSETTO:-0400
TZNAME:EDT
DTSTART:20250309T070000
END:DAYLIGHT
BEGIN:STANDARD
TZOFFSETFROM:-0400
TZOFFSETTO:-0500
TZNAME:EST
DTSTART:20251102T060000
END:STANDARD
BEGIN:DAYLIGHT
TZOFFSETFROM:-0500
TZOFFSETTO:-0400
TZNAME:EDT
DTSTART:20260308T070000
END:DAYLIGHT
BEGIN:STANDARD
TZOFFSETFROM:-0400
TZOFFSETTO:-0500
TZNAME:EST
DTSTART:20261101T060000
END:STANDARD
END:VTIMEZONE
BEGIN:VEVENT
DTSTART;TZID=America/New_York:20250425T080000
DTEND;TZID=America/New_York:20250426T170000
DTSTAMP:20260425T122032
CREATED:20250203T235238Z
LAST-MODIFIED:20250203T235238Z
UID:923-1745568000-1745686800@www.srdba.org
SUMMARY:9th Annual Gulf Coast Dragon Boat Festival
DESCRIPTION:🔥 Gulf Coast Dragon Boat Festival 2025 🔥\nJoin the United Way of South Mississippi for the Gulf Coast Dragon Boat Festival on April 25 & 26\, 2025\, at Harrah’s Gulf Coast Great Lawn! Experience the thrill of dragon boat racing while supporting vital community programs in education\, healthcare\, financial stability\, and youth development. Register your team by February 28\, 2025\, to save $100! \n🌐 Learn more & register: unitedwaysm.org/dragon-boat
URL:https://www.srdba.org/event/gulf-coast-dragon-boat-festival-2025/
LOCATION:Harrah’s Gulf Coast\, 280 Beach Boulevard\, Biloxi\, MS\, 39530\, United States
CATEGORIES:Festival
ATTACH;FMTTYPE=image/png:https://www.srdba.org/wp-content/uploads/2025/02/Gulf-Cost-Dragon-Boat-Festival-2025.04.png
ORGANIZER;CN="United Way of South Mississipp":MAILTO:https://www.unitedwaysm.org/about-us/contact-us/
END:VEVENT
END:VCALENDAR