BEGIN:VCALENDAR
VERSION:2.0
PRODID:-//SRDBA - ECPv6.15.20//NONSGML v1.0//EN
CALSCALE:GREGORIAN
METHOD:PUBLISH
X-WR-CALNAME:SRDBA
X-ORIGINAL-URL:https://www.srdba.org
X-WR-CALDESC:Events for SRDBA
REFRESH-INTERVAL;VALUE=DURATION:PT1H
X-Robots-Tag:noindex
X-PUBLISHED-TTL:PT1H
BEGIN:VTIMEZONE
TZID:America/New_York
BEGIN:DAYLIGHT
TZOFFSETFROM:-0500
TZOFFSETTO:-0400
TZNAME:EDT
DTSTART:20240310T070000
END:DAYLIGHT
BEGIN:STANDARD
TZOFFSETFROM:-0400
TZOFFSETTO:-0500
TZNAME:EST
DTSTART:20241103T060000
END:STANDARD
BEGIN:DAYLIGHT
TZOFFSETFROM:-0500
TZOFFSETTO:-0400
TZNAME:EDT
DTSTART:20250309T070000
END:DAYLIGHT
BEGIN:STANDARD
TZOFFSETFROM:-0400
TZOFFSETTO:-0500
TZNAME:EST
DTSTART:20251102T060000
END:STANDARD
BEGIN:DAYLIGHT
TZOFFSETFROM:-0500
TZOFFSETTO:-0400
TZNAME:EDT
DTSTART:20260308T070000
END:DAYLIGHT
BEGIN:STANDARD
TZOFFSETFROM:-0400
TZOFFSETTO:-0500
TZNAME:EST
DTSTART:20261101T060000
END:STANDARD
END:VTIMEZONE
BEGIN:VEVENT
DTSTART;TZID=America/New_York:20250927T080000
DTEND;TZID=America/New_York:20250927T170000
DTSTAMP:20260422T055941
CREATED:20250122T221141Z
LAST-MODIFIED:20250122T221202Z
UID:892-1758960000-1758992400@www.srdba.org
SUMMARY:Peach State Dragon Boat Festival
DESCRIPTION:Want to be the first to learn all about the brand-new dragon boat padding program in Fayette County? Register here: https://psdba.org/   Competition Divisions \n\nOpen: All genders\nWomen: Women Only\nMixed: Men and Women\nPremier: All ages\nSenior B: Over 50\nBCP: Breast Cancer Paddlers\nACP: All Cancer Paddlers\nPD: Paradragon\nCommunity
URL:https://www.srdba.org/event/2025-peach-state-dragon-boat-festival/
LOCATION:Drake Field\, 151 Willowbend\, Peachtree City\, GA\, 30269\, United States
CATEGORIES:Festival
ATTACH;FMTTYPE=image/png:https://www.srdba.org/wp-content/uploads/2025/01/2025-Peach-State-DBF-Logo4.png
ORGANIZER;CN="Pan Am Dragon Boat":MAILTO:info@panamdragonboat.com
END:VEVENT
END:VCALENDAR