BEGIN:VCALENDAR
VERSION:2.0
PRODID:-//SRDBA - ECPv6.15.20//NONSGML v1.0//EN
CALSCALE:GREGORIAN
METHOD:PUBLISH
X-WR-CALNAME:SRDBA
X-ORIGINAL-URL:https://www.srdba.org
X-WR-CALDESC:Events for SRDBA
REFRESH-INTERVAL;VALUE=DURATION:PT1H
X-Robots-Tag:noindex
X-PUBLISHED-TTL:PT1H
BEGIN:VTIMEZONE
TZID:UTC
BEGIN:STANDARD
TZOFFSETFROM:+0000
TZOFFSETTO:+0000
TZNAME:UTC
DTSTART:20200101T000000
END:STANDARD
END:VTIMEZONE
BEGIN:VEVENT
DTSTART;TZID=UTC:20210413T090000
DTEND;TZID=UTC:20210414T163000
DTSTAMP:20260425T073706
CREATED:20210126T185701Z
LAST-MODIFIED:20210126T185945Z
UID:331-1618304400-1618417800@www.srdba.org
SUMMARY:Pan Am/USDBF Certified Level 1 Coaching
DESCRIPTION:  April 13 – 14\, 9am to 430pm\, ET\n  Chase Suite Hotel\, 3075 N Rocky Point Dr E\, Tampa\, FL 33607\nDate: April 13 – 14\, 9am to 430pm ET \nLocation: Chase Suite Hotel\, Tampa\, FL\, just prior to PanAm Spring Training Camp \nInstructors: Pat and Liz Bradley \nCost: $226\, inlcudes USDBF Certificate Fee \nSee the informational flyer for more class details.
URL:https://www.srdba.org/event/pan-am-usdbf-certified-level-1-coaching-2/
END:VEVENT
BEGIN:VEVENT
DTSTART;TZID=UTC:20210415T090000
DTEND;TZID=UTC:20210417T163000
DTSTAMP:20260425T073706
CREATED:20210126T185845Z
LAST-MODIFIED:20210126T185845Z
UID:332-1618477200-1618677000@www.srdba.org
SUMMARY:Pan Am Advanced Coaching/USDBF Certification Level 2
DESCRIPTION:  15-17 April 2021\, 9am to 430pm ET\n  Chase Suite Hotel\, 3075 N Rocky Point Dr E\, Tampa\, FL 33607 \nDate:  15-17 April 2021\, 9am to 430pm ET \nLocation: Chase Suite Hotel\, Tampa Florida\, just prior to PanAm Spring Training Camp \nInstructor: Pat Bradley and Konrad Doerrbecker\, of PanAm Dragon Boat \nCost:  $326\, including $25 Certification fee for USDBF Level 2 Coaching\, \nSee the informational flyer for more details on class content. \nREGISTER HERE
URL:https://www.srdba.org/event/pan-am-advanced-coaching-usdbf-certification-level-2/
END:VEVENT
END:VCALENDAR